BEGIN:VCALENDAR
VERSION:2.0
PRODID:spatie/icalendar-generator
DESCRIPTION:Events from Area 52 TV
X-WR-CALDESC:Events from Area 52 TV
REFRESH-INTERVAL;VALUE=DURATION:PT1440M
X-PUBLISHED-TTL:PT1440M
BEGIN:VTIMEZONE
TZID:Etc/GMT+4
BEGIN:STANDARD
DTSTART:20240629T150000Z
TZOFFSETFROM:-0400
TZOFFSETTO:-0400
END:STANDARD
END:VTIMEZONE
BEGIN:VTIMEZONE
TZID:UTC
BEGIN:STANDARD
DTSTART:20250726T082357Z
TZOFFSETFROM:+0000
TZOFFSETTO:+0000
END:STANDARD
END:VTIMEZONE
BEGIN:VEVENT
UID:1521-23
DTSTAMP:20260422T082357Z
SUMMARY:CLARA ROSE
LOCATION:Area 52 Studio
ORGANIZER;CN=John Gaston:MAILTO:john@area52mediagroup.com
RRULE:FREQ=WEEKLY;UNTIL=20250402T000000Z
DTSTART;TZID=Etc/GMT+4:20250326T150000
DTEND;TZID=Etc/GMT+4:20250326T160000
X-ALT-DESC;FMTTYPE=TEXT/HTML:BE SAVVY CLARA ROSE
CATEGORIES:TV SHOW
URL;VALUE=URI:https://area52tv.com/mc-events/clara-rose/?mc_id=1521
METHOD:PUBLISH
END:VEVENT
END:VCALENDAR